BEGIN:VCALENDAR
VERSION:2.0
PRODID:-//eventon.com NONSGML v1.0//EN
CALSCALE:GREGORIAN
METHOD:PUBLISH
BEGIN:VEVENT
UID:69e751a5af00d
DTSTAMP:20260421T102957Z
DTSTART:20250308T190000Z
DTEND:20250308T225000Z
LOCATION:
SUMMARY:St. Augustin
DESCRIPTION:Vorstellung findet im Rhein-Sieg Gymnasium statt. Tickets kaufe
 n hier\nhttps://klangrazzia.de/events/klangrazzia-2
URL:https://klangrazzia.de/events/klangrazzia-2
END:VEVENT
END:VCALENDAR